BEGIN:VCALENDAR
VERSION:2.0
PRODID:-//ARC九州 ベースボールチーム - ECPv6.15.20//NONSGML v1.0//EN
CALSCALE:GREGORIAN
METHOD:PUBLISH
X-WR-CALNAME:ARC九州 ベースボールチーム
X-ORIGINAL-URL:https://arc-kyusyu.com
X-WR-CALDESC:ARC九州 ベースボールチーム のイベント
REFRESH-INTERVAL;VALUE=DURATION:PT1H
X-Robots-Tag:noindex
X-PUBLISHED-TTL:PT1H
BEGIN:VTIMEZONE
TZID:Asia/Tokyo
BEGIN:STANDARD
TZOFFSETFROM:+0900
TZOFFSETTO:+0900
TZNAME:JST
DTSTART:20250101T000000
END:STANDARD
END:VTIMEZONE
BEGIN:VEVENT
DTSTART;TZID=Asia/Tokyo:20260424T090000
DTEND;TZID=Asia/Tokyo:20260424T150000
DTSTAMP:20260420T160151
CREATED:20260410T084345Z
LAST-MODIFIED:20260410T084345Z
UID:2956-1777021200-1777042800@arc-kyusyu.com
SUMMARY:全体練習：1日練習
DESCRIPTION:
URL:https://arc-kyusyu.com/event/%e5%85%a8%e4%bd%93%e7%b7%b4%e7%bf%92%ef%bc%9a1%e6%97%a5%e7%b7%b4%e7%bf%92-9/
END:VEVENT
END:VCALENDAR