BEGIN:VCALENDAR
VERSION:2.0
PRODID:-//ARC九州 ベースボールチーム - ECPv6.15.20//NONSGML v1.0//EN
CALSCALE:GREGORIAN
METHOD:PUBLISH
X-WR-CALNAME:ARC九州 ベースボールチーム
X-ORIGINAL-URL:https://arc-kyusyu.com
X-WR-CALDESC:ARC九州 ベースボールチーム のイベント
REFRESH-INTERVAL;VALUE=DURATION:PT1H
X-Robots-Tag:noindex
X-PUBLISHED-TTL:PT1H
BEGIN:VTIMEZONE
TZID:Asia/Tokyo
BEGIN:STANDARD
TZOFFSETFROM:+0900
TZOFFSETTO:+0900
TZNAME:JST
DTSTART:20250101T000000
END:STANDARD
END:VTIMEZONE
BEGIN:VEVENT
DTSTART;TZID=Asia/Tokyo:20260413T114500
DTEND;TZID=Asia/Tokyo:20260413T144500
DTSTAMP:20260420T154044
CREATED:20260410T083656Z
LAST-MODIFIED:20260410T083656Z
UID:2934-1776080700-1776091500@arc-kyusyu.com
SUMMARY:VS 福岡トヨタ野球部
DESCRIPTION:
URL:https://arc-kyusyu.com/event/vs-%e7%a6%8f%e5%b2%a1%e3%83%88%e3%83%a8%e3%82%bf%e9%87%8e%e7%90%83%e9%83%a8/
LOCATION:筑豊緑地球場\, 福岡県飯塚市仁保８−２５\, 820-0115
END:VEVENT
END:VCALENDAR