BEGIN:VCALENDAR
VERSION:2.0
PRODID:-//ARC九州 ベースボールチーム - ECPv6.15.20//NONSGML v1.0//EN
CALSCALE:GREGORIAN
METHOD:PUBLISH
X-ORIGINAL-URL:https://arc-kyusyu.com
X-WR-CALDESC:ARC九州 ベースボールチーム のイベント
REFRESH-INTERVAL;VALUE=DURATION:PT1H
X-Robots-Tag:noindex
X-PUBLISHED-TTL:PT1H
BEGIN:VTIMEZONE
TZID:Asia/Tokyo
BEGIN:STANDARD
TZOFFSETFROM:+0900
TZOFFSETTO:+0900
TZNAME:JST
DTSTART:20240101T000000
END:STANDARD
END:VTIMEZONE
BEGIN:VEVENT
DTSTART;TZID=Asia/Tokyo:20251209T190000
DTEND;TZID=Asia/Tokyo:20251209T210000
DTSTAMP:20260422T222626
CREATED:20251201T050804Z
LAST-MODIFIED:20251211T051109Z
UID:2908-1765306800-1765314000@arc-kyusyu.com
SUMMARY:全体練習：ナイター
DESCRIPTION:雨天、時間に変動があります。詳しくはインスタグラムをご覧ください
URL:https://arc-kyusyu.com/event/%e5%85%a8%e4%bd%93%e7%b7%b4%e7%bf%92%ef%bc%9a%e3%83%8a%e3%82%a4%e3%82%bf%e3%83%bc-2/
END:VEVENT
END:VCALENDAR