BEGIN:VCALENDAR
VERSION:2.0
PRODID:-//ARC九州 ベースボールチーム - ECPv6.15.20//NONSGML v1.0//EN
CALSCALE:GREGORIAN
METHOD:PUBLISH
X-WR-CALNAME:ARC九州 ベースボールチーム
X-ORIGINAL-URL:https://arc-kyusyu.com
X-WR-CALDESC:ARC九州 ベースボールチーム のイベント
REFRESH-INTERVAL;VALUE=DURATION:PT1H
X-Robots-Tag:noindex
X-PUBLISHED-TTL:PT1H
BEGIN:VTIMEZONE
TZID:Asia/Tokyo
BEGIN:STANDARD
TZOFFSETFROM:+0900
TZOFFSETTO:+0900
TZNAME:JST
DTSTART:20240101T000000
END:STANDARD
END:VTIMEZONE
BEGIN:VEVENT
DTSTART;TZID=Asia/Tokyo:20251129T120000
DTEND;TZID=Asia/Tokyo:20251129T150000
DTSTAMP:20260422T235654
CREATED:20251124T135720Z
LAST-MODIFIED:20251124T135720Z
UID:2894-1764417600-1764428400@arc-kyusyu.com
SUMMARY:3団体交流戦
DESCRIPTION:11/29に 3団体交流戦が決定しました！👏 \n野球の発展、技術向上を目的とし\n福岡県高校野球選抜\n九州六大学選抜\n福岡県社会人野球選抜 \n上記チームが参加し\n社会人チームは九州六大学選抜と対戦します。 \nARC九州からは\n監督　古市 賢介 (コーチとして選出) \n投手　小林　快 \n外野手　吉本　海\n森　大慶 \n以上3名が参加いたします。\n画像で吉本が内野手となっておりますが、正しくは外野手です。 \n🗓️11/29\n⏰第一試合(高校選抜🆚大学1年生選抜)終了後\n12時PB予定\n🆚九州六大学(2.3.4年生選抜)\n🏟️SGマリーンフィールド東浜G \n⚾️試合終了後野球教室を開催\n☔️雨天の場合は中止となり予備日はございません。 \nARC九州だけでなく他のクラブチームからも選手が選ばれております！\n企業だけでなく、クラブの選手も混じっての試合は中々ありません👀 \n皆様の熱い応援よろしくお願いいたします🤲🌟
URL:https://arc-kyusyu.com/event/3%e5%9b%a3%e4%bd%93%e4%ba%a4%e6%b5%81%e6%88%a6/
LOCATION:SGマリンフィールド東浜\, 福岡市東区東浜２丁目９−８５−８\, 福岡県\, 812-0055
END:VEVENT
END:VCALENDAR