BEGIN:VCALENDAR
VERSION:2.0
PRODID:-//ARC九州 ベースボールチーム - ECPv6.15.20//NONSGML v1.0//EN
CALSCALE:GREGORIAN
METHOD:PUBLISH
X-WR-CALNAME:ARC九州 ベースボールチーム
X-ORIGINAL-URL:https://arc-kyusyu.com
X-WR-CALDESC:ARC九州 ベースボールチーム のイベント
REFRESH-INTERVAL;VALUE=DURATION:PT1H
X-Robots-Tag:noindex
X-PUBLISHED-TTL:PT1H
BEGIN:VTIMEZONE
TZID:Asia/Tokyo
BEGIN:STANDARD
TZOFFSETFROM:+0900
TZOFFSETTO:+0900
TZNAME:JST
DTSTART:20240101T000000
END:STANDARD
END:VTIMEZONE
BEGIN:VEVENT
DTSTART;TZID=Asia/Tokyo:20250422T090000
DTEND;TZID=Asia/Tokyo:20250422T110000
DTSTAMP:20260423T110056
CREATED:20250407T075908Z
LAST-MODIFIED:20250407T075908Z
UID:2740-1745312400-1745319600@arc-kyusyu.com
SUMMARY:第96回都市対抗野球一次予選 VS ARライノス
DESCRIPTION:勝利しますと、4/26に西部ガスと2次予選進出をかけ二回戦が行われます。
URL:https://arc-kyusyu.com/event/%e7%ac%ac96%e5%9b%9e%e9%83%bd%e5%b8%82%e5%af%be%e6%8a%97%e9%87%8e%e7%90%83%e4%b8%80%e6%ac%a1%e4%ba%88%e9%81%b8-vs-ar%e3%83%a9%e3%82%a4%e3%83%8e%e3%82%b9/
LOCATION:北九州市民球場\, 福岡県\, 北九州市小倉北区三萩野２丁目１０\, 802-0065
END:VEVENT
END:VCALENDAR