BEGIN:VCALENDAR
VERSION:2.0
PRODID:-//ARC九州 ベースボールチーム - ECPv6.15.20//NONSGML v1.0//EN
CALSCALE:GREGORIAN
METHOD:PUBLISH
X-ORIGINAL-URL:https://arc-kyusyu.com
X-WR-CALDESC:ARC九州 ベースボールチーム のイベント
REFRESH-INTERVAL;VALUE=DURATION:PT1H
X-Robots-Tag:noindex
X-PUBLISHED-TTL:PT1H
BEGIN:VTIMEZONE
TZID:Asia/Tokyo
BEGIN:STANDARD
TZOFFSETFROM:+0900
TZOFFSETTO:+0900
TZNAME:JST
DTSTART:20240101T000000
END:STANDARD
END:VTIMEZONE
BEGIN:VEVENT
DTSTART;VALUE=DATE:20250418
DTEND;VALUE=DATE:20250419
DTSTAMP:20260423T110209
CREATED:20250407T074404Z
LAST-MODIFIED:20250407T074404Z
UID:2719-1744934400-1745020799@arc-kyusyu.com
SUMMARY:勤務後練習日
DESCRIPTION:
URL:https://arc-kyusyu.com/event/%e5%8b%a4%e5%8b%99%e5%be%8c%e7%b7%b4%e7%bf%92%e6%97%a5-6/
END:VEVENT
END:VCALENDAR