BEGIN:VCALENDAR
VERSION:2.0
PRODID:-//ARC九州 ベースボールチーム - ECPv6.15.20//NONSGML v1.0//EN
CALSCALE:GREGORIAN
METHOD:PUBLISH
X-ORIGINAL-URL:https://arc-kyusyu.com
X-WR-CALDESC:ARC九州 ベースボールチーム のイベント
REFRESH-INTERVAL;VALUE=DURATION:PT1H
X-Robots-Tag:noindex
X-PUBLISHED-TTL:PT1H
BEGIN:VTIMEZONE
TZID:Asia/Tokyo
BEGIN:STANDARD
TZOFFSETFROM:+0900
TZOFFSETTO:+0900
TZNAME:JST
DTSTART:20240101T000000
END:STANDARD
END:VTIMEZONE
BEGIN:VEVENT
DTSTART;TZID=Asia/Tokyo:20250408T100000
DTEND;TZID=Asia/Tokyo:20250408T120000
DTSTAMP:20260423T110204
CREATED:20250407T074750Z
LAST-MODIFIED:20250407T074750Z
UID:2734-1744106400-1744113600@arc-kyusyu.com
SUMMARY:オープン戦 VS 沖データコンピュータ教育学院
DESCRIPTION:
URL:https://arc-kyusyu.com/event/%e3%82%aa%e3%83%bc%e3%83%97%e3%83%b3%e6%88%a6-vs-%e6%b2%96%e3%83%87%e3%83%bc%e3%82%bf%e3%82%b3%e3%83%b3%e3%83%94%e3%83%a5%e3%83%bc%e3%82%bf%e6%95%99%e8%82%b2%e5%ad%a6%e9%99%a2/
LOCATION:光陵グリーンスタジアム\, 福岡県宮若市磯光1668番地2\, 823-0002
END:VEVENT
END:VCALENDAR