BEGIN:VCALENDAR
VERSION:2.0
PRODID:-//ARC九州 ベースボールチーム - ECPv6.15.20//NONSGML v1.0//EN
CALSCALE:GREGORIAN
METHOD:PUBLISH
X-WR-CALNAME:ARC九州 ベースボールチーム
X-ORIGINAL-URL:https://arc-kyusyu.com
X-WR-CALDESC:ARC九州 ベースボールチーム のイベント
REFRESH-INTERVAL;VALUE=DURATION:PT1H
X-Robots-Tag:noindex
X-PUBLISHED-TTL:PT1H
BEGIN:VTIMEZONE
TZID:Asia/Tokyo
BEGIN:STANDARD
TZOFFSETFROM:+0900
TZOFFSETTO:+0900
TZNAME:JST
DTSTART:20240101T000000
END:STANDARD
END:VTIMEZONE
BEGIN:VEVENT
DTSTART;TZID=Asia/Tokyo:20250323T093000
DTEND;TZID=Asia/Tokyo:20250323T113000
DTSTAMP:20260423T122220
CREATED:20250312T060901Z
LAST-MODIFIED:20250312T061533Z
UID:2496-1742722200-1742729400@arc-kyusyu.com
SUMMARY:第71回 JABA福岡県野球連盟会長杯
DESCRIPTION:  \n 
URL:https://arc-kyusyu.com/event/%e7%ac%ac71%e5%9b%9e-jaba%e7%a6%8f%e5%b2%a1%e7%9c%8c%e9%87%8e%e7%90%83%e9%80%a3%e7%9b%9f%e4%bc%9a%e9%95%b7%e6%9d%af/
LOCATION:日産スターグラウンド\, 福岡県京都郡苅田町新浜町\, 800-0321
END:VEVENT
END:VCALENDAR