BEGIN:VCALENDAR
VERSION:2.0
PRODID:-//ARC九州 ベースボールチーム - ECPv6.15.20//NONSGML v1.0//EN
CALSCALE:GREGORIAN
METHOD:PUBLISH
X-ORIGINAL-URL:https://arc-kyusyu.com
X-WR-CALDESC:ARC九州 ベースボールチーム のイベント
REFRESH-INTERVAL;VALUE=DURATION:PT1H
X-Robots-Tag:noindex
X-PUBLISHED-TTL:PT1H
BEGIN:VTIMEZONE
TZID:Asia/Tokyo
BEGIN:STANDARD
TZOFFSETFROM:+0900
TZOFFSETTO:+0900
TZNAME:JST
DTSTART:20240101T000000
END:STANDARD
END:VTIMEZONE
BEGIN:VEVENT
DTSTART;TZID=Asia/Tokyo:20250308T100000
DTEND;TZID=Asia/Tokyo:20250308T120000
DTSTAMP:20260423T122951
CREATED:20250310T113505Z
LAST-MODIFIED:20250310T113505Z
UID:2438-1741428000-1741435200@arc-kyusyu.com
SUMMARY:オープン戦VS 福岡工業大学
DESCRIPTION:
URL:https://arc-kyusyu.com/event/%e3%82%aa%e3%83%bc%e3%83%97%e3%83%b3%e6%88%a6vs-%e7%a6%8f%e5%b2%a1%e5%b7%a5%e6%a5%ad%e5%a4%a7%e5%ad%a6/
LOCATION:FITスタジアム\, 福岡県福岡市東区塩浜３丁目８１１−１７\, 811-0203
END:VEVENT
END:VCALENDAR