BEGIN:VCALENDAR
VERSION:2.0
PRODID:-//ARC九州 ベースボールチーム - ECPv6.15.20//NONSGML v1.0//EN
CALSCALE:GREGORIAN
METHOD:PUBLISH
X-WR-CALNAME:ARC九州 ベースボールチーム
X-ORIGINAL-URL:https://arc-kyusyu.com
X-WR-CALDESC:ARC九州 ベースボールチーム のイベント
REFRESH-INTERVAL;VALUE=DURATION:PT1H
X-Robots-Tag:noindex
X-PUBLISHED-TTL:PT1H
BEGIN:VTIMEZONE
TZID:Asia/Tokyo
BEGIN:STANDARD
TZOFFSETFROM:+0900
TZOFFSETTO:+0900
TZNAME:JST
DTSTART:20240101T000000
END:STANDARD
END:VTIMEZONE
BEGIN:VEVENT
DTSTART;TZID=Asia/Tokyo:20251116T100000
DTEND;TZID=Asia/Tokyo:20251116T130000
DTSTAMP:20260423T080107
CREATED:20251124T135427Z
LAST-MODIFIED:20251124T135427Z
UID:2891-1763287200-1763298000@arc-kyusyu.com
SUMMARY:第1回福岡県社会人野球クラブリーグ
DESCRIPTION:#第1回福岡県社会人野球クラブリーグ\n一位決定戦のお知らせ📢🥇 \n今年より開催しておりますJFKリーグにてREXパワーズさんと同率1位となりましたので、\n一位決定戦を開催することになりました👏 \n第1回の開催という事もあり、絶対に優勝を掴みに行きます🔥\n皆さまの熱い応援よろしくお願いいたします🙂‍↕️ \n🗓️11/16\n⏰10時PB\n🏟️猪位金球場 \n#JFKリーグ\n#社会人野球\n#第1回福岡県社会人野球クラブリーグ\n#社会人野球クラブリーグ
URL:https://arc-kyusyu.com/event/%e7%ac%ac1%e5%9b%9e%e7%a6%8f%e5%b2%a1%e7%9c%8c%e7%a4%be%e4%bc%9a%e4%ba%ba%e9%87%8e%e7%90%83%e3%82%af%e3%83%a9%e3%83%96%e3%83%aa%e3%83%bc%e3%82%b0/
LOCATION:猪位金球場\, 田川市猪国５３８\, 福岡県\, 826-0045
END:VEVENT
BEGIN:VEVENT
DTSTART;TZID=Asia/Tokyo:20251129T120000
DTEND;TZID=Asia/Tokyo:20251129T150000
DTSTAMP:20260423T080107
CREATED:20251124T135720Z
LAST-MODIFIED:20251124T135720Z
UID:2894-1764417600-1764428400@arc-kyusyu.com
SUMMARY:3団体交流戦
DESCRIPTION:11/29に 3団体交流戦が決定しました！👏 \n野球の発展、技術向上を目的とし\n福岡県高校野球選抜\n九州六大学選抜\n福岡県社会人野球選抜 \n上記チームが参加し\n社会人チームは九州六大学選抜と対戦します。 \nARC九州からは\n監督　古市 賢介 (コーチとして選出) \n投手　小林　快 \n外野手　吉本　海\n森　大慶 \n以上3名が参加いたします。\n画像で吉本が内野手となっておりますが、正しくは外野手です。 \n🗓️11/29\n⏰第一試合(高校選抜🆚大学1年生選抜)終了後\n12時PB予定\n🆚九州六大学(2.3.4年生選抜)\n🏟️SGマリーンフィールド東浜G \n⚾️試合終了後野球教室を開催\n☔️雨天の場合は中止となり予備日はございません。 \nARC九州だけでなく他のクラブチームからも選手が選ばれております！\n企業だけでなく、クラブの選手も混じっての試合は中々ありません👀 \n皆様の熱い応援よろしくお願いいたします🤲🌟
URL:https://arc-kyusyu.com/event/3%e5%9b%a3%e4%bd%93%e4%ba%a4%e6%b5%81%e6%88%a6/
LOCATION:SGマリンフィールド東浜\, 福岡市東区東浜２丁目９−８５−８\, 福岡県\, 812-0055
END:VEVENT
BEGIN:VEVENT
DTSTART;TZID=Asia/Tokyo:20251202T190000
DTEND;TZID=Asia/Tokyo:20251202T210000
DTSTAMP:20260423T080107
CREATED:20251201T045426Z
LAST-MODIFIED:20251211T051142Z
UID:2905-1764702000-1764709200@arc-kyusyu.com
SUMMARY:全体練習：ナイター
DESCRIPTION:雨天、時間に変動があります。詳しくはインスタグラムをご覧ください
URL:https://arc-kyusyu.com/event/%e5%85%a8%e4%bd%93%e7%b7%b4%e7%bf%92%ef%bc%9a%e3%83%8a%e3%82%a4%e3%82%bf%e3%83%bc/
END:VEVENT
BEGIN:VEVENT
DTSTART;TZID=Asia/Tokyo:20251206T090000
DTEND;TZID=Asia/Tokyo:20251206T120000
DTSTAMP:20260423T080107
CREATED:20251201T051305Z
LAST-MODIFIED:20251211T051502Z
UID:2913-1765011600-1765022400@arc-kyusyu.com
SUMMARY:全体練習：1日練習
DESCRIPTION:雨天、時間に変動があります。詳しくはインスタグラムをご覧ください
URL:https://arc-kyusyu.com/event/%e5%85%a8%e4%bd%93%e7%b7%b4%e7%bf%92%ef%bc%9a1%e6%97%a5%e7%b7%b4%e7%bf%92/
END:VEVENT
BEGIN:VEVENT
DTSTART;TZID=Asia/Tokyo:20251207T090000
DTEND;TZID=Asia/Tokyo:20251207T120000
DTSTAMP:20260423T080107
CREATED:20251201T051518Z
LAST-MODIFIED:20251211T051605Z
UID:2915-1765098000-1765108800@arc-kyusyu.com
SUMMARY:全体練習：1日練習
DESCRIPTION:雨天、時間に変動があります。詳しくはインスタグラムをご覧ください
URL:https://arc-kyusyu.com/event/%e5%85%a8%e4%bd%93%e7%b7%b4%e7%bf%92%ef%bc%9a1%e6%97%a5%e7%b7%b4%e7%bf%92-2/
END:VEVENT
BEGIN:VEVENT
DTSTART;TZID=Asia/Tokyo:20251209T190000
DTEND;TZID=Asia/Tokyo:20251209T210000
DTSTAMP:20260423T080107
CREATED:20251201T050804Z
LAST-MODIFIED:20251211T051109Z
UID:2908-1765306800-1765314000@arc-kyusyu.com
SUMMARY:全体練習：ナイター
DESCRIPTION:雨天、時間に変動があります。詳しくはインスタグラムをご覧ください
URL:https://arc-kyusyu.com/event/%e5%85%a8%e4%bd%93%e7%b7%b4%e7%bf%92%ef%bc%9a%e3%83%8a%e3%82%a4%e3%82%bf%e3%83%bc-2/
END:VEVENT
BEGIN:VEVENT
DTSTART;TZID=Asia/Tokyo:20251216T190000
DTEND;TZID=Asia/Tokyo:20251216T210000
DTSTAMP:20260423T080107
CREATED:20251211T051254Z
LAST-MODIFIED:20251211T051254Z
UID:2911-1765911600-1765918800@arc-kyusyu.com
SUMMARY:全体練習：ナイター
DESCRIPTION:雨天、時間に変動があります。詳しくはインスタグラムをご覧ください
URL:https://arc-kyusyu.com/event/%e5%85%a8%e4%bd%93%e7%b7%b4%e7%bf%92%ef%bc%9a%e3%83%8a%e3%82%a4%e3%82%bf%e3%83%bc-3/
END:VEVENT
BEGIN:VEVENT
DTSTART;TZID=Asia/Tokyo:20251221T090000
DTEND;TZID=Asia/Tokyo:20251221T120000
DTSTAMP:20260423T080107
CREATED:20251201T051617Z
LAST-MODIFIED:20251211T051658Z
UID:2917-1766307600-1766318400@arc-kyusyu.com
SUMMARY:全体練習：1日練習
DESCRIPTION:雨天、時間に変動があります。詳しくはインスタグラムをご覧ください
URL:https://arc-kyusyu.com/event/%e5%85%a8%e4%bd%93%e7%b7%b4%e7%bf%92%ef%bc%9a1%e6%97%a5%e7%b7%b4%e7%bf%92-3/
END:VEVENT
BEGIN:VEVENT
DTSTART;TZID=Asia/Tokyo:20251222T090000
DTEND;TZID=Asia/Tokyo:20251222T120000
DTSTAMP:20260423T080107
CREATED:20251201T051702Z
LAST-MODIFIED:20251211T051748Z
UID:2919-1766394000-1766404800@arc-kyusyu.com
SUMMARY:全体練習：1日練習
DESCRIPTION:雨天、時間に変動があります。詳しくはインスタグラムをご覧ください
URL:https://arc-kyusyu.com/event/%e5%85%a8%e4%bd%93%e7%b7%b4%e7%bf%92%ef%bc%9a1%e6%97%a5%e7%b7%b4%e7%bf%92-4/
END:VEVENT
BEGIN:VEVENT
DTSTART;TZID=Asia/Tokyo:20251227T090000
DTEND;TZID=Asia/Tokyo:20251227T120000
DTSTAMP:20260423T080107
CREATED:20251201T051802Z
LAST-MODIFIED:20251211T051934Z
UID:2921-1766826000-1766836800@arc-kyusyu.com
SUMMARY:全体練習：1日練習（年内最後）
DESCRIPTION:雨天、時間に変動があります。詳しくはインスタグラムをご覧ください
URL:https://arc-kyusyu.com/event/%e5%85%a8%e4%bd%93%e7%b7%b4%e7%bf%92%ef%bc%9a1%e6%97%a5%e7%b7%b4%e7%bf%92-5/
END:VEVENT
BEGIN:VEVENT
DTSTART;TZID=Asia/Tokyo:20260403T190000
DTEND;TZID=Asia/Tokyo:20260403T210000
DTSTAMP:20260423T080107
CREATED:20260410T083942Z
LAST-MODIFIED:20260410T083942Z
UID:2940-1775242800-1775250000@arc-kyusyu.com
SUMMARY:全体練習：ナイター
DESCRIPTION:
URL:https://arc-kyusyu.com/event/%e5%85%a8%e4%bd%93%e7%b7%b4%e7%bf%92%ef%bc%9a%e3%83%8a%e3%82%a4%e3%82%bf%e3%83%bc-4/
END:VEVENT
BEGIN:VEVENT
DTSTART;TZID=Asia/Tokyo:20260405T090000
DTEND;TZID=Asia/Tokyo:20260405T150000
DTSTAMP:20260423T080107
CREATED:20260410T084151Z
LAST-MODIFIED:20260410T084255Z
UID:2950-1775379600-1775401200@arc-kyusyu.com
SUMMARY:全体練習：1日練習
DESCRIPTION:
URL:https://arc-kyusyu.com/event/%e5%85%a8%e4%bd%93%e7%b7%b4%e7%bf%92%ef%bc%9a1%e6%97%a5%e7%b7%b4%e7%bf%92-6/
END:VEVENT
BEGIN:VEVENT
DTSTART;TZID=Asia/Tokyo:20260407T110000
DTEND;TZID=Asia/Tokyo:20260407T120000
DTSTAMP:20260423T080107
CREATED:20260410T083517Z
LAST-MODIFIED:20260410T083517Z
UID:2929-1775559600-1775563200@arc-kyusyu.com
SUMMARY:VS 日本製鉄優秀
DESCRIPTION:
URL:https://arc-kyusyu.com/event/vs-%e6%97%a5%e6%9c%ac%e8%a3%bd%e9%89%84%e5%84%aa%e7%a7%80/
LOCATION:明野球場
END:VEVENT
BEGIN:VEVENT
DTSTART;TZID=Asia/Tokyo:20260408T100000
DTEND;TZID=Asia/Tokyo:20260408T120000
DTSTAMP:20260423T080107
CREATED:20260410T083609Z
LAST-MODIFIED:20260410T083609Z
UID:2932-1775642400-1775649600@arc-kyusyu.com
SUMMARY:VS 日産自動車九州
DESCRIPTION:
URL:https://arc-kyusyu.com/event/vs-%e6%97%a5%e7%94%a3%e8%87%aa%e5%8b%95%e8%bb%8a%e4%b9%9d%e5%b7%9e/
LOCATION:日産スターグラウンド\, 福岡県京都郡苅田町新浜町\, 800-0321
END:VEVENT
BEGIN:VEVENT
DTSTART;TZID=Asia/Tokyo:20260412T090000
DTEND;TZID=Asia/Tokyo:20260412T150000
DTSTAMP:20260423T080107
CREATED:20260410T084222Z
LAST-MODIFIED:20260410T084222Z
UID:2952-1775984400-1776006000@arc-kyusyu.com
SUMMARY:全体練習：1日練習
DESCRIPTION:
URL:https://arc-kyusyu.com/event/%e5%85%a8%e4%bd%93%e7%b7%b4%e7%bf%92%ef%bc%9a1%e6%97%a5%e7%b7%b4%e7%bf%92-7/
END:VEVENT
BEGIN:VEVENT
DTSTART;TZID=Asia/Tokyo:20260413T114500
DTEND;TZID=Asia/Tokyo:20260413T144500
DTSTAMP:20260423T080107
CREATED:20260410T083656Z
LAST-MODIFIED:20260410T083656Z
UID:2934-1776080700-1776091500@arc-kyusyu.com
SUMMARY:VS 福岡トヨタ野球部
DESCRIPTION:
URL:https://arc-kyusyu.com/event/vs-%e7%a6%8f%e5%b2%a1%e3%83%88%e3%83%a8%e3%82%bf%e9%87%8e%e7%90%83%e9%83%a8/
LOCATION:筑豊緑地球場\, 福岡県飯塚市仁保８−２５\, 820-0115
END:VEVENT
BEGIN:VEVENT
DTSTART;TZID=Asia/Tokyo:20260414T190000
DTEND;TZID=Asia/Tokyo:20260414T210000
DTSTAMP:20260423T080107
CREATED:20260410T084006Z
LAST-MODIFIED:20260410T084006Z
UID:2942-1776193200-1776200400@arc-kyusyu.com
SUMMARY:全体練習：ナイター
DESCRIPTION:
URL:https://arc-kyusyu.com/event/%e5%85%a8%e4%bd%93%e7%b7%b4%e7%bf%92%ef%bc%9a%e3%83%8a%e3%82%a4%e3%82%bf%e3%83%bc-5/
END:VEVENT
BEGIN:VEVENT
DTSTART;TZID=Asia/Tokyo:20260417T190000
DTEND;TZID=Asia/Tokyo:20260417T210000
DTSTAMP:20260423T080107
CREATED:20260410T084027Z
LAST-MODIFIED:20260410T084027Z
UID:2944-1776452400-1776459600@arc-kyusyu.com
SUMMARY:全体練習：ナイター
DESCRIPTION:
URL:https://arc-kyusyu.com/event/%e5%85%a8%e4%bd%93%e7%b7%b4%e7%bf%92%ef%bc%9a%e3%83%8a%e3%82%a4%e3%82%bf%e3%83%bc-6/
END:VEVENT
BEGIN:VEVENT
DTSTART;TZID=Asia/Tokyo:20260418T184500
DTEND;TZID=Asia/Tokyo:20260418T204500
DTSTAMP:20260423T080107
CREATED:20260410T083738Z
LAST-MODIFIED:20260410T083741Z
UID:2936-1776537900-1776545100@arc-kyusyu.com
SUMMARY:VS ARライノス
DESCRIPTION:
URL:https://arc-kyusyu.com/event/vs-ar%e3%83%a9%e3%82%a4%e3%83%8e%e3%82%b9/
LOCATION:筑豊緑地球場\, 福岡県飯塚市仁保８−２５\, 820-0115
END:VEVENT
BEGIN:VEVENT
DTSTART;TZID=Asia/Tokyo:20260420T090000
DTEND;TZID=Asia/Tokyo:20260420T150000
DTSTAMP:20260423T080107
CREATED:20260410T084320Z
LAST-MODIFIED:20260410T084320Z
UID:2954-1776675600-1776697200@arc-kyusyu.com
SUMMARY:全体練習：1日練習
DESCRIPTION:
URL:https://arc-kyusyu.com/event/%e5%85%a8%e4%bd%93%e7%b7%b4%e7%bf%92%ef%bc%9a1%e6%97%a5%e7%b7%b4%e7%bf%92-8/
END:VEVENT
BEGIN:VEVENT
DTSTART;TZID=Asia/Tokyo:20260421T190000
DTEND;TZID=Asia/Tokyo:20260421T210000
DTSTAMP:20260423T080107
CREATED:20260410T084046Z
LAST-MODIFIED:20260410T084046Z
UID:2946-1776798000-1776805200@arc-kyusyu.com
SUMMARY:全体練習：ナイター
DESCRIPTION:
URL:https://arc-kyusyu.com/event/%e5%85%a8%e4%bd%93%e7%b7%b4%e7%bf%92%ef%bc%9a%e3%83%8a%e3%82%a4%e3%82%bf%e3%83%bc-7/
END:VEVENT
BEGIN:VEVENT
DTSTART;TZID=Asia/Tokyo:20260424T090000
DTEND;TZID=Asia/Tokyo:20260424T150000
DTSTAMP:20260423T080107
CREATED:20260410T084345Z
LAST-MODIFIED:20260410T084345Z
UID:2956-1777021200-1777042800@arc-kyusyu.com
SUMMARY:全体練習：1日練習
DESCRIPTION:
URL:https://arc-kyusyu.com/event/%e5%85%a8%e4%bd%93%e7%b7%b4%e7%bf%92%ef%bc%9a1%e6%97%a5%e7%b7%b4%e7%bf%92-9/
END:VEVENT
BEGIN:VEVENT
DTSTART;TZID=Asia/Tokyo:20260426T153000
DTEND;TZID=Asia/Tokyo:20260426T180000
DTSTAMP:20260423T080107
CREATED:20260410T082731Z
LAST-MODIFIED:20260410T082731Z
UID:2926-1777217400-1777226400@arc-kyusyu.com
SUMMARY:都市対抗野球大会福岡予選
DESCRIPTION:勝利しますと翌日KMGホールディングスとの代表決定戦が行われます。 \nプロ野球で使用の球場での公式戦🔥\n現地で、一球速報でたくさんの応援をよろしくお願いします！ \n※雨天順延予定ですが、詳細日程につきましては未定でございます。
URL:https://arc-kyusyu.com/event/%e9%83%bd%e5%b8%82%e5%af%be%e6%8a%97%e9%87%8e%e7%90%83%e5%a4%a7%e4%bc%9a%e7%a6%8f%e5%b2%a1%e4%ba%88%e9%81%b8/
LOCATION:タマホームスタジアム筑後\, 福岡県筑後市\, 津島７５７−１\, 833-0015
END:VEVENT
BEGIN:VEVENT
DTSTART;TZID=Asia/Tokyo:20260428T190000
DTEND;TZID=Asia/Tokyo:20260428T210000
DTSTAMP:20260423T080107
CREATED:20260410T084107Z
LAST-MODIFIED:20260410T084107Z
UID:2948-1777402800-1777410000@arc-kyusyu.com
SUMMARY:全体練習：ナイター
DESCRIPTION:
URL:https://arc-kyusyu.com/event/%e5%85%a8%e4%bd%93%e7%b7%b4%e7%bf%92%ef%bc%9a%e3%83%8a%e3%82%a4%e3%82%bf%e3%83%bc-8/
END:VEVENT
BEGIN:VEVENT
DTSTART;TZID=Asia/Tokyo:20260430T110000
DTEND;TZID=Asia/Tokyo:20260430T130000
DTSTAMP:20260423T080107
CREATED:20260410T083847Z
LAST-MODIFIED:20260410T083847Z
UID:2938-1777546800-1777554000@arc-kyusyu.com
SUMMARY:VS 沖データコンピュータ教育学院
DESCRIPTION:
URL:https://arc-kyusyu.com/event/vs-%e6%b2%96%e3%83%87%e3%83%bc%e3%82%bf%e3%82%b3%e3%83%b3%e3%83%94%e3%83%a5%e3%83%bc%e3%82%bf%e6%95%99%e8%82%b2%e5%ad%a6%e9%99%a2/
LOCATION:筑豊緑地球場\, 福岡県飯塚市仁保８−２５\, 820-0115
END:VEVENT
END:VCALENDAR