BEGIN:VCALENDAR
VERSION:2.0
PRODID:-//ARC九州 ベースボールチーム - ECPv6.15.20//NONSGML v1.0//EN
CALSCALE:GREGORIAN
METHOD:PUBLISH
X-WR-CALNAME:ARC九州 ベースボールチーム
X-ORIGINAL-URL:https://arc-kyusyu.com
X-WR-CALDESC:ARC九州 ベースボールチーム のイベント
REFRESH-INTERVAL;VALUE=DURATION:PT1H
X-Robots-Tag:noindex
X-PUBLISHED-TTL:PT1H
BEGIN:VTIMEZONE
TZID:Asia/Tokyo
BEGIN:STANDARD
TZOFFSETFROM:+0900
TZOFFSETTO:+0900
TZNAME:JST
DTSTART:20240101T000000
END:STANDARD
END:VTIMEZONE
BEGIN:VEVENT
DTSTART;TZID=Asia/Tokyo:20251227T090000
DTEND;TZID=Asia/Tokyo:20251227T120000
DTSTAMP:20260423T075552
CREATED:20251201T051802Z
LAST-MODIFIED:20251211T051934Z
UID:2921-1766826000-1766836800@arc-kyusyu.com
SUMMARY:全体練習：1日練習（年内最後）
DESCRIPTION:雨天、時間に変動があります。詳しくはインスタグラムをご覧ください
URL:https://arc-kyusyu.com/event/%e5%85%a8%e4%bd%93%e7%b7%b4%e7%bf%92%ef%bc%9a1%e6%97%a5%e7%b7%b4%e7%bf%92-5/
END:VEVENT
BEGIN:VEVENT
DTSTART;TZID=Asia/Tokyo:20251222T090000
DTEND;TZID=Asia/Tokyo:20251222T120000
DTSTAMP:20260423T075552
CREATED:20251201T051702Z
LAST-MODIFIED:20251211T051748Z
UID:2919-1766394000-1766404800@arc-kyusyu.com
SUMMARY:全体練習：1日練習
DESCRIPTION:雨天、時間に変動があります。詳しくはインスタグラムをご覧ください
URL:https://arc-kyusyu.com/event/%e5%85%a8%e4%bd%93%e7%b7%b4%e7%bf%92%ef%bc%9a1%e6%97%a5%e7%b7%b4%e7%bf%92-4/
END:VEVENT
BEGIN:VEVENT
DTSTART;TZID=Asia/Tokyo:20251221T090000
DTEND;TZID=Asia/Tokyo:20251221T120000
DTSTAMP:20260423T075552
CREATED:20251201T051617Z
LAST-MODIFIED:20251211T051658Z
UID:2917-1766307600-1766318400@arc-kyusyu.com
SUMMARY:全体練習：1日練習
DESCRIPTION:雨天、時間に変動があります。詳しくはインスタグラムをご覧ください
URL:https://arc-kyusyu.com/event/%e5%85%a8%e4%bd%93%e7%b7%b4%e7%bf%92%ef%bc%9a1%e6%97%a5%e7%b7%b4%e7%bf%92-3/
END:VEVENT
BEGIN:VEVENT
DTSTART;TZID=Asia/Tokyo:20251216T190000
DTEND;TZID=Asia/Tokyo:20251216T210000
DTSTAMP:20260423T075552
CREATED:20251211T051254Z
LAST-MODIFIED:20251211T051254Z
UID:2911-1765911600-1765918800@arc-kyusyu.com
SUMMARY:全体練習：ナイター
DESCRIPTION:雨天、時間に変動があります。詳しくはインスタグラムをご覧ください
URL:https://arc-kyusyu.com/event/%e5%85%a8%e4%bd%93%e7%b7%b4%e7%bf%92%ef%bc%9a%e3%83%8a%e3%82%a4%e3%82%bf%e3%83%bc-3/
END:VEVENT
BEGIN:VEVENT
DTSTART;TZID=Asia/Tokyo:20251209T190000
DTEND;TZID=Asia/Tokyo:20251209T210000
DTSTAMP:20260423T075552
CREATED:20251201T050804Z
LAST-MODIFIED:20251211T051109Z
UID:2908-1765306800-1765314000@arc-kyusyu.com
SUMMARY:全体練習：ナイター
DESCRIPTION:雨天、時間に変動があります。詳しくはインスタグラムをご覧ください
URL:https://arc-kyusyu.com/event/%e5%85%a8%e4%bd%93%e7%b7%b4%e7%bf%92%ef%bc%9a%e3%83%8a%e3%82%a4%e3%82%bf%e3%83%bc-2/
END:VEVENT
BEGIN:VEVENT
DTSTART;TZID=Asia/Tokyo:20251207T090000
DTEND;TZID=Asia/Tokyo:20251207T120000
DTSTAMP:20260423T075552
CREATED:20251201T051518Z
LAST-MODIFIED:20251211T051605Z
UID:2915-1765098000-1765108800@arc-kyusyu.com
SUMMARY:全体練習：1日練習
DESCRIPTION:雨天、時間に変動があります。詳しくはインスタグラムをご覧ください
URL:https://arc-kyusyu.com/event/%e5%85%a8%e4%bd%93%e7%b7%b4%e7%bf%92%ef%bc%9a1%e6%97%a5%e7%b7%b4%e7%bf%92-2/
END:VEVENT
BEGIN:VEVENT
DTSTART;TZID=Asia/Tokyo:20251206T090000
DTEND;TZID=Asia/Tokyo:20251206T120000
DTSTAMP:20260423T075552
CREATED:20251201T051305Z
LAST-MODIFIED:20251211T051502Z
UID:2913-1765011600-1765022400@arc-kyusyu.com
SUMMARY:全体練習：1日練習
DESCRIPTION:雨天、時間に変動があります。詳しくはインスタグラムをご覧ください
URL:https://arc-kyusyu.com/event/%e5%85%a8%e4%bd%93%e7%b7%b4%e7%bf%92%ef%bc%9a1%e6%97%a5%e7%b7%b4%e7%bf%92/
END:VEVENT
BEGIN:VEVENT
DTSTART;TZID=Asia/Tokyo:20251202T190000
DTEND;TZID=Asia/Tokyo:20251202T210000
DTSTAMP:20260423T075552
CREATED:20251201T045426Z
LAST-MODIFIED:20251211T051142Z
UID:2905-1764702000-1764709200@arc-kyusyu.com
SUMMARY:全体練習：ナイター
DESCRIPTION:雨天、時間に変動があります。詳しくはインスタグラムをご覧ください
URL:https://arc-kyusyu.com/event/%e5%85%a8%e4%bd%93%e7%b7%b4%e7%bf%92%ef%bc%9a%e3%83%8a%e3%82%a4%e3%82%bf%e3%83%bc/
END:VEVENT
BEGIN:VEVENT
DTSTART;TZID=Asia/Tokyo:20251129T120000
DTEND;TZID=Asia/Tokyo:20251129T150000
DTSTAMP:20260423T075552
CREATED:20251124T135720Z
LAST-MODIFIED:20251124T135720Z
UID:2894-1764417600-1764428400@arc-kyusyu.com
SUMMARY:3団体交流戦
DESCRIPTION:11/29に 3団体交流戦が決定しました！👏 \n野球の発展、技術向上を目的とし\n福岡県高校野球選抜\n九州六大学選抜\n福岡県社会人野球選抜 \n上記チームが参加し\n社会人チームは九州六大学選抜と対戦します。 \nARC九州からは\n監督　古市 賢介 (コーチとして選出) \n投手　小林　快 \n外野手　吉本　海\n森　大慶 \n以上3名が参加いたします。\n画像で吉本が内野手となっておりますが、正しくは外野手です。 \n🗓️11/29\n⏰第一試合(高校選抜🆚大学1年生選抜)終了後\n12時PB予定\n🆚九州六大学(2.3.4年生選抜)\n🏟️SGマリーンフィールド東浜G \n⚾️試合終了後野球教室を開催\n☔️雨天の場合は中止となり予備日はございません。 \nARC九州だけでなく他のクラブチームからも選手が選ばれております！\n企業だけでなく、クラブの選手も混じっての試合は中々ありません👀 \n皆様の熱い応援よろしくお願いいたします🤲🌟
URL:https://arc-kyusyu.com/event/3%e5%9b%a3%e4%bd%93%e4%ba%a4%e6%b5%81%e6%88%a6/
LOCATION:SGマリンフィールド東浜\, 福岡市東区東浜２丁目９−８５−８\, 福岡県\, 812-0055
END:VEVENT
BEGIN:VEVENT
DTSTART;TZID=Asia/Tokyo:20251116T100000
DTEND;TZID=Asia/Tokyo:20251116T130000
DTSTAMP:20260423T075552
CREATED:20251124T135427Z
LAST-MODIFIED:20251124T135427Z
UID:2891-1763287200-1763298000@arc-kyusyu.com
SUMMARY:第1回福岡県社会人野球クラブリーグ
DESCRIPTION:#第1回福岡県社会人野球クラブリーグ\n一位決定戦のお知らせ📢🥇 \n今年より開催しておりますJFKリーグにてREXパワーズさんと同率1位となりましたので、\n一位決定戦を開催することになりました👏 \n第1回の開催という事もあり、絶対に優勝を掴みに行きます🔥\n皆さまの熱い応援よろしくお願いいたします🙂‍↕️ \n🗓️11/16\n⏰10時PB\n🏟️猪位金球場 \n#JFKリーグ\n#社会人野球\n#第1回福岡県社会人野球クラブリーグ\n#社会人野球クラブリーグ
URL:https://arc-kyusyu.com/event/%e7%ac%ac1%e5%9b%9e%e7%a6%8f%e5%b2%a1%e7%9c%8c%e7%a4%be%e4%bc%9a%e4%ba%ba%e9%87%8e%e7%90%83%e3%82%af%e3%83%a9%e3%83%96%e3%83%aa%e3%83%bc%e3%82%b0/
LOCATION:猪位金球場\, 田川市猪国５３８\, 福岡県\, 826-0045
END:VEVENT
BEGIN:VEVENT
DTSTART;VALUE=DATE:20250621
DTEND;VALUE=DATE:20250622
DTSTAMP:20260423T075552
CREATED:20250528T030625Z
LAST-MODIFIED:20250528T030625Z
UID:2799-1750464000-1750550399@arc-kyusyu.com
SUMMARY:全日本クラブ選手権福岡予選 VS福岡トヨタ
DESCRIPTION:詳細は決まり次第お知らせいたします
URL:https://arc-kyusyu.com/event/%e5%85%a8%e6%97%a5%e6%9c%ac%e3%82%af%e3%83%a9%e3%83%96%e9%81%b8%e6%89%8b%e6%a8%a9%e7%a6%8f%e5%b2%a1%e4%ba%88%e9%81%b8-vs%e7%a6%8f%e5%b2%a1%e3%83%88%e3%83%a8%e3%82%bf/
END:VEVENT
BEGIN:VEVENT
DTSTART;VALUE=DATE:20250425
DTEND;VALUE=DATE:20250426
DTSTAMP:20260423T075552
CREATED:20250407T074421Z
LAST-MODIFIED:20250407T074421Z
UID:2721-1745539200-1745625599@arc-kyusyu.com
SUMMARY:勤務後練習日
DESCRIPTION:
URL:https://arc-kyusyu.com/event/%e5%8b%a4%e5%8b%99%e5%be%8c%e7%b7%b4%e7%bf%92%e6%97%a5-7/
END:VEVENT
BEGIN:VEVENT
DTSTART;TZID=Asia/Tokyo:20250422T090000
DTEND;TZID=Asia/Tokyo:20250422T110000
DTSTAMP:20260423T075552
CREATED:20250407T075908Z
LAST-MODIFIED:20250407T075908Z
UID:2740-1745312400-1745319600@arc-kyusyu.com
SUMMARY:第96回都市対抗野球一次予選 VS ARライノス
DESCRIPTION:勝利しますと、4/26に西部ガスと2次予選進出をかけ二回戦が行われます。
URL:https://arc-kyusyu.com/event/%e7%ac%ac96%e5%9b%9e%e9%83%bd%e5%b8%82%e5%af%be%e6%8a%97%e9%87%8e%e7%90%83%e4%b8%80%e6%ac%a1%e4%ba%88%e9%81%b8-vs-ar%e3%83%a9%e3%82%a4%e3%83%8e%e3%82%b9/
LOCATION:北九州市民球場\, 福岡県\, 北九州市小倉北区三萩野２丁目１０\, 802-0065
END:VEVENT
BEGIN:VEVENT
DTSTART;VALUE=DATE:20250420
DTEND;VALUE=DATE:20250421
DTSTAMP:20260423T075552
CREATED:20250407T074539Z
LAST-MODIFIED:20250407T074539Z
UID:2727-1745107200-1745193599@arc-kyusyu.com
SUMMARY:終日練習日
DESCRIPTION:
URL:https://arc-kyusyu.com/event/%e7%b5%82%e6%97%a5%e7%b7%b4%e7%bf%92%e6%97%a5-3/
END:VEVENT
BEGIN:VEVENT
DTSTART;VALUE=DATE:20250418
DTEND;VALUE=DATE:20250419
DTSTAMP:20260423T075552
CREATED:20250407T074404Z
LAST-MODIFIED:20250407T074404Z
UID:2719-1744934400-1745020799@arc-kyusyu.com
SUMMARY:勤務後練習日
DESCRIPTION:
URL:https://arc-kyusyu.com/event/%e5%8b%a4%e5%8b%99%e5%be%8c%e7%b7%b4%e7%bf%92%e6%97%a5-6/
END:VEVENT
BEGIN:VEVENT
DTSTART;TZID=Asia/Tokyo:20250415T100000
DTEND;TZID=Asia/Tokyo:20250415T120000
DTSTAMP:20260423T075552
CREATED:20250407T074915Z
LAST-MODIFIED:20250407T074915Z
UID:2738-1744711200-1744718400@arc-kyusyu.com
SUMMARY:オープン戦 VS 新海屋
DESCRIPTION:
URL:https://arc-kyusyu.com/event/%e3%82%aa%e3%83%bc%e3%83%97%e3%83%b3%e6%88%a6-vs-%e6%96%b0%e6%b5%b7%e5%b1%8b/
LOCATION:ダイハツ九州スタジアム\, 大分県中津市加来２２８３−１\, 871-0152
END:VEVENT
BEGIN:VEVENT
DTSTART;VALUE=DATE:20250414
DTEND;VALUE=DATE:20250415
DTSTAMP:20260423T075552
CREATED:20250407T074349Z
LAST-MODIFIED:20250407T074349Z
UID:2717-1744588800-1744675199@arc-kyusyu.com
SUMMARY:勤務後練習日
DESCRIPTION:
URL:https://arc-kyusyu.com/event/%e5%8b%a4%e5%8b%99%e5%be%8c%e7%b7%b4%e7%bf%92%e6%97%a5-5/
END:VEVENT
BEGIN:VEVENT
DTSTART;VALUE=DATE:20250413
DTEND;VALUE=DATE:20250414
DTSTAMP:20260423T075552
CREATED:20250407T074523Z
LAST-MODIFIED:20250407T074523Z
UID:2725-1744502400-1744588799@arc-kyusyu.com
SUMMARY:終日練習日
DESCRIPTION:
URL:https://arc-kyusyu.com/event/%e7%b5%82%e6%97%a5%e7%b7%b4%e7%bf%92%e6%97%a5-2/
END:VEVENT
BEGIN:VEVENT
DTSTART;VALUE=DATE:20250411
DTEND;VALUE=DATE:20250412
DTSTAMP:20260423T075552
CREATED:20250407T074331Z
LAST-MODIFIED:20250407T074331Z
UID:2715-1744329600-1744415999@arc-kyusyu.com
SUMMARY:勤務後練習日
DESCRIPTION:
URL:https://arc-kyusyu.com/event/%e5%8b%a4%e5%8b%99%e5%be%8c%e7%b7%b4%e7%bf%92%e6%97%a5-4/
END:VEVENT
BEGIN:VEVENT
DTSTART;TZID=Asia/Tokyo:20250409T100000
DTEND;TZID=Asia/Tokyo:20250409T120000
DTSTAMP:20260423T075552
CREATED:20250407T074824Z
LAST-MODIFIED:20250407T074824Z
UID:2736-1744192800-1744200000@arc-kyusyu.com
SUMMARY:オープン戦 VS 日産自動車九州
DESCRIPTION:
URL:https://arc-kyusyu.com/event/%e3%82%aa%e3%83%bc%e3%83%97%e3%83%b3%e6%88%a6-vs-%e6%97%a5%e7%94%a3%e8%87%aa%e5%8b%95%e8%bb%8a%e4%b9%9d%e5%b7%9e/
LOCATION:日産スターグラウンド\, 福岡県京都郡苅田町新浜町\, 800-0321
END:VEVENT
BEGIN:VEVENT
DTSTART;TZID=Asia/Tokyo:20250408T100000
DTEND;TZID=Asia/Tokyo:20250408T120000
DTSTAMP:20260423T075552
CREATED:20250407T074750Z
LAST-MODIFIED:20250407T074750Z
UID:2734-1744106400-1744113600@arc-kyusyu.com
SUMMARY:オープン戦 VS 沖データコンピュータ教育学院
DESCRIPTION:
URL:https://arc-kyusyu.com/event/%e3%82%aa%e3%83%bc%e3%83%97%e3%83%b3%e6%88%a6-vs-%e6%b2%96%e3%83%87%e3%83%bc%e3%82%bf%e3%82%b3%e3%83%b3%e3%83%94%e3%83%a5%e3%83%bc%e3%82%bf%e6%95%99%e8%82%b2%e5%ad%a6%e9%99%a2/
LOCATION:光陵グリーンスタジアム\, 福岡県宮若市磯光1668番地2\, 823-0002
END:VEVENT
BEGIN:VEVENT
DTSTART;VALUE=DATE:20250407
DTEND;VALUE=DATE:20250408
DTSTAMP:20260423T075552
CREATED:20250407T074316Z
LAST-MODIFIED:20250407T074316Z
UID:2713-1743984000-1744070399@arc-kyusyu.com
SUMMARY:勤務後練習日
DESCRIPTION:
URL:https://arc-kyusyu.com/event/%e5%8b%a4%e5%8b%99%e5%be%8c%e7%b7%b4%e7%bf%92%e6%97%a5-3/
END:VEVENT
BEGIN:VEVENT
DTSTART;VALUE=DATE:20250406
DTEND;VALUE=DATE:20250407
DTSTAMP:20260423T075552
CREATED:20250407T074507Z
LAST-MODIFIED:20250407T074507Z
UID:2723-1743897600-1743983999@arc-kyusyu.com
SUMMARY:終日練習日
DESCRIPTION:
URL:https://arc-kyusyu.com/event/%e7%b5%82%e6%97%a5%e7%b7%b4%e7%bf%92%e6%97%a5/
END:VEVENT
BEGIN:VEVENT
DTSTART;TZID=Asia/Tokyo:20250404T100000
DTEND;TZID=Asia/Tokyo:20250404T120000
DTSTAMP:20260423T075552
CREATED:20250407T074554Z
LAST-MODIFIED:20250407T074707Z
UID:2729-1743760800-1743768000@arc-kyusyu.com
SUMMARY:オープン戦 VS ARライノス
DESCRIPTION:
URL:https://arc-kyusyu.com/event/%e7%b5%82%e6%97%a5%e7%b7%b4%e7%bf%92%e6%97%a5-4/
LOCATION:豊前市民球場\, 豊前市八屋３２２−２３\, 福岡県\, 828-0021\, 日本
END:VEVENT
BEGIN:VEVENT
DTSTART;VALUE=DATE:20250403
DTEND;VALUE=DATE:20250404
DTSTAMP:20260423T075552
CREATED:20250407T074301Z
LAST-MODIFIED:20250407T074301Z
UID:2711-1743638400-1743724799@arc-kyusyu.com
SUMMARY:勤務後練習日
DESCRIPTION:
URL:https://arc-kyusyu.com/event/%e5%8b%a4%e5%8b%99%e5%be%8c%e7%b7%b4%e7%bf%92%e6%97%a5-2/
END:VEVENT
BEGIN:VEVENT
DTSTART;VALUE=DATE:20250401
DTEND;VALUE=DATE:20250402
DTSTAMP:20260423T075552
CREATED:20250407T074225Z
LAST-MODIFIED:20250407T074225Z
UID:2709-1743465600-1743551999@arc-kyusyu.com
SUMMARY:勤務後練習日
DESCRIPTION:
URL:https://arc-kyusyu.com/event/%e5%8b%a4%e5%8b%99%e5%be%8c%e7%b7%b4%e7%bf%92%e6%97%a5/
END:VEVENT
BEGIN:VEVENT
DTSTART;TZID=Asia/Tokyo:20250330T150000
DTEND;TZID=Asia/Tokyo:20250330T170000
DTSTAMP:20260423T075552
CREATED:20250310T114909Z
LAST-MODIFIED:20250310T114909Z
UID:2446-1743346800-1743354000@arc-kyusyu.com
SUMMARY:オープン戦 VS 九州大学
DESCRIPTION:
URL:https://arc-kyusyu.com/event/%e3%82%aa%e3%83%bc%e3%83%97%e3%83%b3%e6%88%a6-vs-%e4%b9%9d%e5%b7%9e%e5%a4%a7%e5%ad%a6/
LOCATION:九州大学内野球場
END:VEVENT
BEGIN:VEVENT
DTSTART;TZID=Asia/Tokyo:20250330T093000
DTEND;TZID=Asia/Tokyo:20250330T113000
DTSTAMP:20260423T075552
CREATED:20250310T114722Z
LAST-MODIFIED:20250310T114722Z
UID:2444-1743327000-1743334200@arc-kyusyu.com
SUMMARY:オープン戦 VS 西南学院大学
DESCRIPTION:
URL:https://arc-kyusyu.com/event/%e3%82%aa%e3%83%bc%e3%83%97%e3%83%b3%e6%88%a6-vs-%e8%a5%bf%e5%8d%97%e5%ad%a6%e9%99%a2%e5%a4%a7%e5%ad%a6/
LOCATION:田尻グリーンフィールド\, 福岡県\, 福岡市西区学園通２２７０−１\, 819-0389\, 日本
END:VEVENT
BEGIN:VEVENT
DTSTART;TZID=Asia/Tokyo:20250323T093000
DTEND;TZID=Asia/Tokyo:20250323T113000
DTSTAMP:20260423T075552
CREATED:20250312T060901Z
LAST-MODIFIED:20250312T061533Z
UID:2496-1742722200-1742729400@arc-kyusyu.com
SUMMARY:第71回 JABA福岡県野球連盟会長杯
DESCRIPTION:  \n 
URL:https://arc-kyusyu.com/event/%e7%ac%ac71%e5%9b%9e-jaba%e7%a6%8f%e5%b2%a1%e7%9c%8c%e9%87%8e%e7%90%83%e9%80%a3%e7%9b%9f%e4%bc%9a%e9%95%b7%e6%9d%af/
LOCATION:日産スターグラウンド\, 福岡県京都郡苅田町新浜町\, 800-0321
END:VEVENT
BEGIN:VEVENT
DTSTART;TZID=Asia/Tokyo:20250311T130000
DTEND;TZID=Asia/Tokyo:20250311T150000
DTSTAMP:20260423T075552
CREATED:20250310T114547Z
LAST-MODIFIED:20250310T114547Z
UID:2441-1741698000-1741705200@arc-kyusyu.com
SUMMARY:オープン戦VS 火の国サラマンダーズ
DESCRIPTION:
URL:https://arc-kyusyu.com/event/%e3%82%aa%e3%83%bc%e3%83%97%e3%83%b3%e6%88%a6vs-%e7%81%ab%e3%81%ae%e5%9b%bd%e3%82%b5%e3%83%a9%e3%83%9e%e3%83%b3%e3%83%80%e3%83%bc%e3%82%ba/
LOCATION:藤崎台球場\, 本県熊本市中央区宮内４丁目１\, 860-0005
END:VEVENT
END:VCALENDAR